BEGIN:VCALENDAR
VERSION:2.0
PRODID:-//GRABB Local - ECPv6.15.17.1//NONSGML v1.0//EN
CALSCALE:GREGORIAN
METHOD:PUBLISH
X-WR-CALNAME:GRABB Local
X-ORIGINAL-URL:https://grabblocal.com
X-WR-CALDESC:Events for GRABB Local
REFRESH-INTERVAL;VALUE=DURATION:PT1H
X-Robots-Tag:noindex
X-PUBLISHED-TTL:PT1H
BEGIN:VTIMEZONE
TZID:America/Detroit
BEGIN:DAYLIGHT
TZOFFSETFROM:-0500
TZOFFSETTO:-0400
TZNAME:EDT
DTSTART:20240310T070000
END:DAYLIGHT
BEGIN:STANDARD
TZOFFSETFROM:-0400
TZOFFSETTO:-0500
TZNAME:EST
DTSTART:20241103T060000
END:STANDARD
BEGIN:DAYLIGHT
TZOFFSETFROM:-0500
TZOFFSETTO:-0400
TZNAME:EDT
DTSTART:20250309T070000
END:DAYLIGHT
BEGIN:STANDARD
TZOFFSETFROM:-0400
TZOFFSETTO:-0500
TZNAME:EST
DTSTART:20251102T060000
END:STANDARD
BEGIN:DAYLIGHT
TZOFFSETFROM:-0500
TZOFFSETTO:-0400
TZNAME:EDT
DTSTART:20260308T070000
END:DAYLIGHT
BEGIN:STANDARD
TZOFFSETFROM:-0400
TZOFFSETTO:-0500
TZNAME:EST
DTSTART:20261101T060000
END:STANDARD
END:VTIMEZONE
BEGIN:VEVENT
DTSTART;TZID=America/Detroit:20251212T183000
DTEND;TZID=America/Detroit:20251212T210000
DTSTAMP:20260422T044404
CREATED:20250211T145359Z
LAST-MODIFIED:20251202T032453Z
UID:5720-1765564200-1765573200@grabblocal.com
SUMMARY:2025 GRABB Awards & Gala
DESCRIPTION:The evening of December 12th from 6:30pm-9:00pm. We are excited to present our Annual GRABB Gala & Awards Reception. The GRABB Gala & Awards is a one-of-a-kind\, event designed to recognize those contributing to the forward economic progress of our community and advance the work of Grand Rapids Area Black Businesses which aims to foster an economy that supports the revitalization of the Black community and expand opportunities for Black Businesses in the Greater Grand Rapids area by creating economic equity. \nThe GRABB Awards were created to recognize\, affirm and celebrate Black businesses\, individuals and community organizations that work hard to build up and make a difference in our community. \nWe are also celebrating another year of impact and transformation\, followed by recognizing this year’s award recipients and our Marcus Garvey Legacy Honoree. We will share what you\, as critical community members and supporters\, can do to ensure #TheShift continues! \n  \nPurchase Tickets: GRABB Gala 2025
URL:https://grabblocal.com/event/2025-grabb-awards-gala/
LOCATION:Morenas\, 4470 Breton Rd SE\, Kentwood\, MI\, 49508\, United States
CATEGORIES:GRABB Gala
ATTACH;FMTTYPE=image/jpeg:https://grabblocal.com/wp-content/uploads/Final-GRABB-Gala-2025-v2.jpg
END:VEVENT
END:VCALENDAR